BEGIN:VCALENDAR
VERSION:2.0
PRODID:-//Sunburn Festival - ECPv6.15.20//NONSGML v1.0//EN
CALSCALE:GREGORIAN
METHOD:PUBLISH
X-ORIGINAL-URL:https://sunburn.in
X-WR-CALDESC:Events for Sunburn Festival
REFRESH-INTERVAL;VALUE=DURATION:PT1H
X-Robots-Tag:noindex
X-PUBLISHED-TTL:PT1H
BEGIN:VTIMEZONE
TZID:Asia/Kolkata
BEGIN:STANDARD
TZOFFSETFROM:+0530
TZOFFSETTO:+0530
TZNAME:IST
DTSTART:20250101T000000
END:STANDARD
END:VTIMEZONE
BEGIN:VEVENT
DTSTART;TZID=Asia/Kolkata:20260321T160000
DTEND;TZID=Asia/Kolkata:20260322T220000
DTSTAMP:20260419T235633
CREATED:20260316T181307Z
LAST-MODIFIED:20260316T181308Z
UID:23173-1774108800-1774216800@sunburn.in
SUMMARY:Camelphat India tour
DESCRIPTION:On 21 st March\, Quake Arena transforms into a pulsating cathedral of sound as globally acclaimed electronic duo CamelPhat take over the night with their signature blend of deep house and melodic techno. \nKnown for chart-dominating hits like “Cola” and revered for their hypnotic\, emotionally charged live sets\, CamelPhat have become one of the most influential forces in contemporary electronic music. From headlining the world’s biggest festivals to commanding legendary clubs across Ibiza and beyond\, their sound is both powerful and immersive. \nThis Mumbai showcase promises an elevated audio-visual experience\, featuring cutting-edge production\, immersive lighting design\, and a crowd united by rhythm. \nExpect driving basslines\, atmospheric melodies\, and a set that seamlessly moves between intensity and transcendence. \nCamelPhat live at Quake Arena isn’t just a concert – it’s a sonic journey crafted for those who live for the dancefloor.
URL:https://sunburn.in/event/camelphat-india-tour/
LOCATION:India\, India
CATEGORIES:Arena
ATTACH;FMTTYPE=image/webp:https://sunburn.in/wp-content/uploads/2026/03/l37pso4qedzaold2qbm1.webp
END:VEVENT
END:VCALENDAR