BEGIN:VCALENDAR
VERSION:2.0
PRODID:-//Sunburn Festival - ECPv6.15.20//NONSGML v1.0//EN
CALSCALE:GREGORIAN
METHOD:PUBLISH
X-ORIGINAL-URL:https://sunburn.in
X-WR-CALDESC:Events for Sunburn Festival
REFRESH-INTERVAL;VALUE=DURATION:PT1H
X-Robots-Tag:noindex
X-PUBLISHED-TTL:PT1H
BEGIN:VTIMEZONE
TZID:Asia/Kolkata
BEGIN:STANDARD
TZOFFSETFROM:+0530
TZOFFSETTO:+0530
TZNAME:IST
DTSTART:20240101T000000
END:STANDARD
END:VTIMEZONE
BEGIN:VEVENT
DTSTART;TZID=Asia/Kolkata:20251227T190000
DTEND;TZID=Asia/Kolkata:20251231T190000
DTSTAMP:20260420T061607
CREATED:20251104T133547Z
LAST-MODIFIED:20251104T133547Z
UID:22874-1766862000-1767207600@sunburn.in
SUMMARY:Sunburn Arena ft. ARGY
DESCRIPTION:Get ready\, India! ARGY is taking over Delhi NCR on 27th December and Bengaluru on 31st December for an electrifying end-of-year spectacle you cannot miss. \nExperience the pulse-pounding beats of ARGY\, one of the world’s most electrifying electronic music sensations\, as he takes the stage with his signature mix of progressive house\, trance\, and festival anthems. Expect mind-blowing visuals\, immersive production\, and non-stop energy that will keep you dancing all night long. \nWitness massive crowds\, insane drops\, and an unforgettable party vibe to close out 2025. Gather your squad\, secure your spot\, and get ready to welcome the New Year with the ultimate EDM celebration. \nLimited Tickets available – don’t get left out!
URL:https://sunburn.in/event/sunburn-arena-ft-argy/
LOCATION:India\, India
CATEGORIES:Arena
ATTACH;FMTTYPE=image/jpeg:https://sunburn.in/wp-content/uploads/2025/11/website-argy-tour-1920x1080-min.jpg
END:VEVENT
END:VCALENDAR