BEGIN:VCALENDAR
VERSION:2.0
PRODID:-//Sunburn Festival - ECPv6.15.20//NONSGML v1.0//EN
CALSCALE:GREGORIAN
METHOD:PUBLISH
X-WR-CALNAME:Sunburn Festival
X-ORIGINAL-URL:https://sunburn.in
X-WR-CALDESC:Events for Sunburn Festival
REFRESH-INTERVAL;VALUE=DURATION:PT1H
X-Robots-Tag:noindex
X-PUBLISHED-TTL:PT1H
BEGIN:VTIMEZONE
TZID:Asia/Kolkata
BEGIN:STANDARD
TZOFFSETFROM:+0530
TZOFFSETTO:+0530
TZNAME:IST
DTSTART:20220101T000000
END:STANDARD
END:VTIMEZONE
BEGIN:VTIMEZONE
TZID:UTC
BEGIN:STANDARD
TZOFFSETFROM:+0000
TZOFFSETTO:+0000
TZNAME:UTC
DTSTART:20220101T000000
END:STANDARD
END:VTIMEZONE
BEGIN:VEVENT
DTSTART;TZID=Asia/Kolkata:20251128T190000
DTEND;TZID=Asia/Kolkata:20251130T000000
DTSTAMP:20260420T081221
CREATED:20250914T140345Z
LAST-MODIFIED:20250914T141129Z
UID:22714-1764356400-1764460800@sunburn.in
SUMMARY:Afrojack India Tour 2025
DESCRIPTION:The global superstar is back in India! \nGrammy-winning producer and DJ Mag #7 legend\, AFROJACK\, is set to headline the Smirnoff Experience with a massive 3-city takeover. \nKnown for his festival-dominating drops\, platinum hits\, and boundary-pushing sound\, \nAFROJACK brings his iconic energy to India for a tour like no other. Expect jaw-dropping production\, electrifying visuals\, and Smirnoff-powered vibes that will keep you dancing till sunrise. \n3 Cities. Endless Energy. One Unforgettable Experience. \nThis is not just a concert ~ it’s the Smirnoff Lemon Pop Non Alcoholic Experience. \nLimited Tickets Available. Book Now!
URL:https://sunburn.in/event/afrojack-india-tour-2025/
LOCATION:India\, India
CATEGORIES:Festival
ATTACH;FMTTYPE=image/jpeg:https://sunburn.in/wp-content/uploads/2025/09/Copy-of-website-creatives_multicity-min-scaled.jpg
END:VEVENT
BEGIN:VEVENT
DTSTART;TZID=Asia/Kolkata:20251010T190000
DTEND;TZID=Asia/Kolkata:20251012T000000
DTSTAMP:20260420T081221
CREATED:20250630T032105Z
LAST-MODIFIED:20250923T065331Z
UID:22578-1760122800-1760227200@sunburn.in
SUMMARY:Sunburn Arena Ft. Francis Mercier
DESCRIPTION:Francis Mercier – India Tour October 2025 \nGlobal house music sensation Francis Mercier is set to bring his unique blend of Afro-house and deep melodic sounds to India for an unforgettable 3-city tour this October! From the vibrant nightlife of Mumbai\, to the electric energy of Delhi NCR\, and the cultural heartbeat of Kolkata – get ready for a euphoric musical journey like never before. \nCatch the maestro live as he takes over the decks with chart-topping hits and signature grooves that have captivated audiences across the world. \nLimited Tickets Available. Book Now!
URL:https://sunburn.in/event/sunburn-arena-ft-francis-mercier/
LOCATION:India\, India
CATEGORIES:Arena
ATTACH;FMTTYPE=image/jpeg:https://sunburn.in/wp-content/uploads/2025/06/1920x1080-Francis-Mercier-min-1.jpg
END:VEVENT
BEGIN:VEVENT
DTSTART;TZID=Asia/Kolkata:20250801T190000
DTEND;TZID=Asia/Kolkata:20250802T010000
DTSTAMP:20260420T081221
CREATED:20250630T031523Z
LAST-MODIFIED:20250630T032124Z
UID:22575-1754074800-1754096400@sunburn.in
SUMMARY:The White Soiree ft. Novak and Vidojean
DESCRIPTION:Get ready for a night of pure euphoria as Sunburn and Team Innovation come together to present the most anticipated celebration of the season – The All White Party at \nDome on 1st August. \nStep into a world where elegance meets energy\, and style meets sound. Dressed in all white\, you’ll be part of an unforgettable visual spectacle\, set against a backdrop of pulsating lights\, immersive production\, and an atmosphere of electrifying sophistication. \nFeaturing the dynamic duo Novak & Vidojean\, known for their high-energy sets and global dancefloor anthems\, this night promises to be a sonic journey through house\, tech\, and euphoric grooves. \nThis isn’t just a party — it’s a statement. \n  \n  \nIt is an ALL WHITE PARTY. White attire is mandatory.
URL:https://sunburn.in/event/the-white-soiree/
LOCATION:Dome NSCI SVP Stadium Mumbai\, D Wing\, First Floor\, NSCI\, SVP Stadium\, Lala Lajpatrai Marg\, Lotus Colony\, Worli\, Mumbai\, Maharashtra 400018\, India\, Mumbai\, Maharashtra\, 400018\, India
CATEGORIES:Show
ATTACH;FMTTYPE=image/jpeg:https://sunburn.in/wp-content/uploads/2025/06/1920x1080-1-min.jpg
END:VEVENT
BEGIN:VEVENT
DTSTART;TZID=Asia/Kolkata:20250510T180000
DTEND;TZID=Asia/Kolkata:20250511T230000
DTSTAMP:20260420T081221
CREATED:20250409T080211Z
LAST-MODIFIED:20250409T080211Z
UID:22341-1746900000-1747004400@sunburn.in
SUMMARY:Summer Fest 2025
DESCRIPTION:For the first time\, the Sunburn Summer Festival 2025 is coming to Shillong and Bangalore! \nGet ready for an electrifying EDM experience with global headliners\, stunning visuals\, immersive light and sound\, and an unforgettable vibe. Experience world-class music\, stunning visuals\, high-energy crowds\, and an atmosphere like never before. Let the beats drop and the summer vibes take over! \nLimited Tickets Available. Book Now!
URL:https://sunburn.in/event/summer-fest-2025/
LOCATION:India\, India
CATEGORIES:Festival
ATTACH;FMTTYPE=image/jpeg:https://sunburn.in/wp-content/uploads/2025/04/SF25-Website_1920x1080-min.jpg
END:VEVENT
BEGIN:VEVENT
DTSTART;TZID=Asia/Kolkata:20250503T180000
DTEND;TZID=Asia/Kolkata:20250504T230000
DTSTAMP:20260420T081221
CREATED:20250329T102015Z
LAST-MODIFIED:20250329T102015Z
UID:22212-1746295200-1746399600@sunburn.in
SUMMARY:Verknipt 2025
DESCRIPTION:For the first time in India\, Verknipt the global techno phenomenon is set to shake Mumbai & Hyderabad with an experience like never before! \nGet ready for relentless\, high-energy beats\, international headliners\, and a massive production setup that will transport you straight into the heart of the underground. Known for pushing boundaries in the hard techno scene\, Verknipt is bringing its signature raw energy\, mind-bending visuals\, and an atmosphere unlike anything India has ever witnessed.
URL:https://sunburn.in/event/verknipt2025/
LOCATION:India\, India
CATEGORIES:Arena
ATTACH;FMTTYPE=image/jpeg:https://sunburn.in/wp-content/uploads/2025/03/1920x1080_V_website-min.jpg
END:VEVENT
BEGIN:VEVENT
DTSTART;VALUE=DATE:20250417
DTEND;VALUE=DATE:20250421
DTSTAMP:20260420T081221
CREATED:20250402T015044Z
LAST-MODIFIED:20250402T015044Z
UID:22310-1744848000-1745193599@sunburn.in
SUMMARY:Alan Walker India Tour Part II
DESCRIPTION:Hey India\, get set ’cause Alan Walker’s tour is about to hit you like a storm! \nImagine nights where “Faded” isn’t just a track but the anthem of your memories\, where every “Alone” moment feels like a shared pulse with thousands. \nThis tour is your playlist come to life. Feel the “Spectre” of beats haunting every corner of your mind\, and when \n“Darkside” hits\, you know it’s real – the music\, the crowd\, the energy. \nWe’re not just talking about concerts; we’re crafting experiences. “Different World”? That’s where we’re heading\, with each beat\, each drop\, and each melody. Let “Tired” be just a word\, ’cause these nights will recharge your soul\, leaving you \n“Awake” in a dream you don’t want to end. \nJoin the movement\, feel the music\, and be the beat. Alan Walker is calling\, and this is the journey you don’t wanna miss.
URL:https://sunburn.in/event/alan-walker-india-tour-part-ii/
LOCATION:India\, India
CATEGORIES:Arena
ATTACH;FMTTYPE=image/jpeg:https://sunburn.in/wp-content/uploads/2025/04/1920x1080-min.jpg
END:VEVENT
BEGIN:VEVENT
DTSTART;VALUE=DATE:20250322
DTEND;VALUE=DATE:20250324
DTSTAMP:20260420T081221
CREATED:20250116T170209Z
LAST-MODIFIED:20250402T015134Z
UID:22158-1742601600-1742774399@sunburn.in
SUMMARY:&ME India Tour
DESCRIPTION:Get ready for an unforgettable night as &ME\, one of the most dynamic figures in electronic music\, brings his unique blend of deep house and tech house to India. Known for his groove-driven sets\, innovative soundscapes\, and impressive track record of producing hits\, &ME’s performance is set to be a highlight of the festival season. \nWith his deep understanding of dance floor energy and captivating stage presence\, &ME will take you on a journey of pulsating rhythms and soulful melodies. \nLimited tickets are available. Book Now!
URL:https://sunburn.in/event/meindiatour/
LOCATION:India\, India
CATEGORIES:Arena
ATTACH;FMTTYPE=image/jpeg:https://sunburn.in/wp-content/uploads/2025/01/Website-Creative-01-min.jpg
END:VEVENT
BEGIN:VEVENT
DTSTART;VALUE=DATE:20250314
DTEND;VALUE=DATE:20250317
DTSTAMP:20260420T081221
CREATED:20250212T131240Z
LAST-MODIFIED:20250212T131240Z
UID:22172-1741910400-1742169599@sunburn.in
SUMMARY:Timmy Trumpet India tour
DESCRIPTION:Celebrate Holi in the best way possible with Timmy Trumpet at Sunburn! Immerse in the lively visuals and colours alongside the mesmerizing beats of the legendary artist!
URL:https://sunburn.in/event/timmytrumpet-india-tour/
LOCATION:India\, India
CATEGORIES:Arena
ATTACH;FMTTYPE=image/jpeg:https://sunburn.in/wp-content/uploads/2025/02/TT-horizontal-min.jpg
END:VEVENT
BEGIN:VEVENT
DTSTART;VALUE=DATE:20250314
DTEND;VALUE=DATE:20250315
DTSTAMP:20260420T081221
CREATED:20241201T210603Z
LAST-MODIFIED:20241201T210603Z
UID:22108-1741910400-1741996799@sunburn.in
SUMMARY:World's Biggest Holi with Martin Garrix
DESCRIPTION:Martin Garrix Live in Mumbai – World’s Biggest Holi Celebration \nThis Holi\, gear up for an unforgettable\, history-making event as Martin Garrix takes over DY Patil Stadium on March 14\, 2025. Join us at the world’s Biggest Holi Celebration*\, produced by Spacebound\, where Garrix will light up the stage with his chart-smashing tracks and electrifying energy. \nImagine thousands of fans coming together in a stunning display of colors and sound to celebrate the festival of colors with Garrix’s massive beats and jaw-dropping visuals. Known for his heart-pounding tracks like Animals and Scared to Be Lonely\, Garrix will deliver a set that’s more than just music—it’s an experience. \nGet ready to immerse yourself in a world of color\, music\, and unity\, making this Holi celebration a landmark event.
URL:https://sunburn.in/event/worlds-biggest-holi-with-martin-garrix/
LOCATION:DY Patil Stadium\, Mumbai\, Sector 7\, Nerul\, Navi Mumbai\, Maharashtra 400706\, Mumbai\, 400706\, India
CATEGORIES:Concert
ATTACH;FMTTYPE=image/jpeg:https://sunburn.in/wp-content/uploads/2024/12/martin-garrix-cover-min.jpg
END:VEVENT
BEGIN:VEVENT
DTSTART;VALUE=DATE:20250306
DTEND;VALUE=DATE:20250308
DTSTAMP:20260420T081221
CREATED:20241217T200647Z
LAST-MODIFIED:20241217T200720Z
UID:22153-1741219200-1741391999@sunburn.in
SUMMARY:Sunburn Arena with Zedd
DESCRIPTION:Zedd Is Coming to India! \nGet ready for the ultimate party as Zedd takes over Sunburn Arena! The Grammy-winning DJ behind hits like Clarity\, Stay\, and The Middle brings his electrifying set to India\, with insane drops\, mind-blowing visuals\, and an unforgettable experience. This is your chance to see one of the biggest names in EDM live!
URL:https://sunburn.in/event/sunburn-arena-with-zedd/
LOCATION:India\, India
CATEGORIES:Arena
ATTACH;FMTTYPE=image/jpeg:https://sunburn.in/wp-content/uploads/2024/12/IMG_5846-min.jpg
END:VEVENT
BEGIN:VEVENT
DTSTART;VALUE=DATE:20250118
DTEND;VALUE=DATE:20250120
DTSTAMP:20260420T081221
CREATED:20241217T195344Z
LAST-MODIFIED:20241217T195344Z
UID:22149-1737158400-1737331199@sunburn.in
SUMMARY:Sunburn Arena with Afrojack
DESCRIPTION:Get ready for an electrifying night as Afrojack\, the global EDM icon\, returns to India for an unforgettable performance at Sunburn Arena. Known for his chart-topping hits and high-energy sets\, Afrojack will take the stage to deliver an unforgettable experience with his signature mix of house\, electro\, and progressive beats. \nWith massive anthems like Take Over Control and The Spark\, Afrojack’s performance is set to be a sonic explosion\, amplified by mind-blowing visuals and the incredible energy of the Sunburn crowd. \nThis isn’t just a concert—it’s a celebration of music\, lights\, and unity.
URL:https://sunburn.in/event/sunburn-arena-with-afrojack/
LOCATION:India\, India
CATEGORIES:Arena
ATTACH;FMTTYPE=image/jpeg:https://sunburn.in/wp-content/uploads/2024/12/IMG_5845-min.jpg
END:VEVENT
BEGIN:VEVENT
DTSTART;VALUE=DATE:20241228
DTEND;VALUE=DATE:20241231
DTSTAMP:20260420T081221
CREATED:20241217T193921Z
LAST-MODIFIED:20241217T193921Z
UID:22147-1735344000-1735603199@sunburn.in
SUMMARY:Sunburn Goa 2024
DESCRIPTION:Asia’s Biggest and World’s 11th Ranked Music Festival is back! \nIt’s time for the ultimate party happening in South Goa from 28-30 December 2024. \nThe festival returns with a revamped and exhilarating experience. Set in a stunning new venue\, the festival features top international artists\, electrifying performances\, and cutting-edge production. It won’t be less than a lifetime of unforgettable moments\, immersive music\, and vibrant festival vibes against the South Goan backdrop. \nPre-sale Tickets available NOW!
URL:https://sunburn.in/event/sunburn-goa-2024/
LOCATION:South Goa
CATEGORIES:Festival
ATTACH;FMTTYPE=image/jpeg:https://sunburn.in/wp-content/uploads/2024/10/Line-Up-1920x1080-01-1-min.jpg
END:VEVENT
BEGIN:VEVENT
DTSTART;VALUE=DATE:20241122
DTEND;VALUE=DATE:20241125
DTSTAMP:20260420T081221
CREATED:20240910T132603Z
LAST-MODIFIED:20240912T133632Z
UID:22036-1732233600-1732492799@sunburn.in
SUMMARY:Sunburn arena with Charlotte De Witte
DESCRIPTION:Charlotte de Witte\, the Belgian techno queen\, is set to bring her signature dark and driving techno beats to India for a three-city tour. Known for her powerful performances and unique style\, Charlotte has become a global phenomenon\, commanding the decks at the world’s most prestigious clubs and festivals. This November\, she will captivate Indian audiences with her electrifying sets\, blending hypnotic rhythms\, deep basslines\, and atmospheric soundscapes. Fans can expect an unforgettable night filled with pulsating energy\, as Charlotte de Witte takes over the stage in a celebration of techno music.
URL:https://sunburn.in/event/sunburn-arena-with-charlottedewitte/
LOCATION:India\, India
CATEGORIES:Arena
ATTACH;FMTTYPE=image/jpeg:https://sunburn.in/wp-content/uploads/2024/09/CDW-Website-Creative-1920x1080-04.jpg
END:VEVENT
BEGIN:VEVENT
DTSTART;VALUE=DATE:20241207
DTEND;VALUE=DATE:20241209
DTSTAMP:20260420T081221
CREATED:20240911T133952Z
LAST-MODIFIED:20240912T134126Z
UID:21967-1733529600-1733702399@sunburn.in
SUMMARY:Sunburn Arena with Boris Brejcha
DESCRIPTION:The high tech minimal legend Boris Brejcha is set to mark a triumphant return to India! Having packed India’s best indoor venue last year\, the fans are eager to indulge into an electrifying performance once again. Known for his high-energy performances and unique sound\, Brejcha promises to deliver a thrilling night that will leave the crowd in awe. \nRegister Now to get exclusive discounts on early-bird tickets.
URL:https://sunburn.in/event/boris-brejcha/
LOCATION:India\, India
CATEGORIES:Arena
ATTACH;FMTTYPE=image/jpeg:https://sunburn.in/wp-content/uploads/2024/07/Website-Boris-01-1-min-min.jpg
END:VEVENT
BEGIN:VEVENT
DTSTART;TZID=Asia/Kolkata:20240928T180000
DTEND;TZID=Asia/Kolkata:20241019T230000
DTSTAMP:20260420T081221
CREATED:20240403T081342Z
LAST-MODIFIED:20240403T081342Z
UID:21721-1727546400-1729378800@sunburn.in
SUMMARY:Alan Walker India Tour
DESCRIPTION:Hey India\, get set ’cause Alan Walker’s tour is about to hit you like a storm! \n\nKolkata\nShillong\nDelhi\nAhmedabad\nBengaluru\nKochi\nChennai\nPune\nMumbai\nHyderabad\n\nImagine nights where “Faded” isn’t just a track\, but the anthem of your memories\, where every “Alone” moment feels like a shared pulse with thousands. \nThis tour is your playlist come to life. Feel the “Spectre” of beats haunting every corner of your mind\, and when “Darkside” hits\, that’s when you know it’s real – the music\, the crowd\, the energy. \nWe’re not just talking concerts; we’re crafting experiences. “Different World”? That’s where we’re heading\, with each beat\, each drop\, and each melody. Let “Tired” be just a word\, ’cause these nights are gonna recharge your soul\, leaving you “Awake” in a dream you don’t wanna end. \nJoin the movement\, feel the music\, be the beat. Alan Walker is calling\, and this is the journey you don’t wanna miss. REGISTER NOW!
URL:https://sunburn.in/event/alanwalkerindiatour/
LOCATION:India\, India
CATEGORIES:Arena
ATTACH;FMTTYPE=image/jpeg:https://sunburn.in/wp-content/uploads/2024/04/AW-Horizontal-01-min.jpg
END:VEVENT
BEGIN:VEVENT
DTSTART;TZID=Asia/Kolkata:20240412T180000
DTEND;TZID=Asia/Kolkata:20240412T230000
DTSTAMP:20260420T081221
CREATED:20240308T121602Z
LAST-MODIFIED:20240313T053306Z
UID:21639-1712944800-1712962800@sunburn.in
SUMMARY:Fisher - Live in Mumbai
DESCRIPTION:Get ready to feel the ground shake as Fisher makes his electrifying debut in India on April 12th. Watch Mumbai transform as the “Losing It” anthem reverberates\, where beats drop and spirits ignite. \nThis isn’t just a gig; it’s a techno revolution\, an opportunity to be part of a historic night as Fisher unleashes his top hits on Indian soil for the first time. The air will be charged with anticipation\, pulsing with the infectious grooves that have taken the world by storm. \nDon’t just catch the highlights—be there to immerse yourself in the energy\, moving with a crowd captivated by the rhythm of a global music phenomenon. Tickets live NOW—secure yours and ensure you’re part of the night that redefines your year!
URL:https://sunburn.in/event/fisher-live-in-mumbai/
LOCATION:Dome NSCI SVP Stadium Mumbai\, D Wing\, First Floor\, NSCI\, SVP Stadium\, Lala Lajpatrai Marg\, Lotus Colony\, Worli\, Mumbai\, Maharashtra 400018\, India\, Mumbai\, Maharashtra\, 400018\, India
CATEGORIES:Arena
ATTACH;FMTTYPE=image/jpeg:https://sunburn.in/wp-content/uploads/2024/03/sb-fisher-website-01-min-1.jpg
END:VEVENT
BEGIN:VEVENT
DTSTART;TZID=Asia/Kolkata:20240322T170000
DTEND;TZID=Asia/Kolkata:20240325T220000
DTSTAMP:20260420T081221
CREATED:20240308T121236Z
LAST-MODIFIED:20240308T121236Z
UID:21638-1711126800-1711404000@sunburn.in
SUMMARY:Marshmello India Tour
DESCRIPTION:Embark on a beat-dropping voyage as Marshmello bounces into India\, turning up the volume across four electrifying cities. “Keep It Mello” as the bass drops in Bengaluru on March 22nd\, “Silence” yourself with anticipation in Delhi on March 23rd\, let the “Wolves” out in Mumbai on March 24th\, and finally\, “Find Me” in the crowd in Pune on March 25th. The thrill is real as Marshmello brings his iconic helmet and chart-topping tunes\, ensuring every beat and drop is packed with his signature energy. \nJoin us for a symphony of pulsing lights and unforgettable melodies\, where Marshmello’s anthems become the soundtrack to a night like no other. Let his beats guide you through a journey filled with euphoric drops and epic memories. \nDon’t just stand there\, “Find your way back home” to the heart of the music—tickets live NOW!
URL:https://sunburn.in/event/marshmello-india-tour/
LOCATION:India\, India
CATEGORIES:Arena
ATTACH;FMTTYPE=image/jpeg:https://sunburn.in/wp-content/uploads/2024/03/sb-website-01-min.jpg
END:VEVENT
BEGIN:VEVENT
DTSTART;TZID=Asia/Kolkata:20240223T170000
DTEND;TZID=Asia/Kolkata:20240225T220000
DTSTAMP:20260420T081221
CREATED:20240116T091256Z
LAST-MODIFIED:20240116T091256Z
UID:21506-1708707600-1708898400@sunburn.in
SUMMARY:Illenium India Tour
DESCRIPTION:Join Illenium\, the master of melodic bass\, as he hits the stage in three vibrant Indian cities\, and go on an ethereal auditory journey. The adventure begins on February 23 in Mumbai\, the city of dreams\, where the audience will be enthralled by Illenium’s captivating beats. Bengaluru is going to be enchanted on February 24th\, when Illenium creates a musical tapestry that is captivating and transcends genres. The tour comes to an end on February 25 in the vibrant surroundings of Delhi NCR\, where guests can expect an amazing evening under the stars. \nRenowned for his poignant and forceful live performances\, Illenium is expected to deliver an immersive experience that fans will find compelling. Illenium’s talent is unmatched\, ranging from soul-stirring songs to chart-topping classics. \nGet your tickets now for an enthralling auditory adventure where Illenium’s music serves as a medium for shared feelings and life-long memories. Come experience an unmatched blend of sounds and emotions with us in Mumbai\, Bengaluru\, and Delhi NCR as Illenium takes electronic music to new heights. Don’t pass up this opportunity to take part in an incredible musical journey.
URL:https://sunburn.in/event/illenium-india-tour/
LOCATION:India\, India
CATEGORIES:Arena
ATTACH;FMTTYPE=image/jpeg:https://sunburn.in/wp-content/uploads/2024/01/Illenium-Website-02-min.jpg
END:VEVENT
BEGIN:VEVENT
DTSTART;TZID=Asia/Kolkata:20240210T170000
DTEND;TZID=Asia/Kolkata:20240215T220000
DTSTAMP:20260420T081221
CREATED:20240116T092154Z
LAST-MODIFIED:20240116T092154Z
UID:21510-1707584400-1708034400@sunburn.in
SUMMARY:G-Eazy India Tour
DESCRIPTION:Embark on a rhythmic journey as G-Eazy lights up the stage in his first-ever performances across India. Groove to the beats in Bengaluru on Feb 10th\, Delhi on Feb 11th\, and Mumbai on Feb 15th. The excitement has “No Limit” as G-Eazy brings his chart-topping hits and unmatched energy to the stage. \nJoin us in creating a symphony of memories\, where G-Eazy’s music becomes the “Me\, Myself & I” of an unforgettable night! \nImmerse yourself in this epic experience\, letting G-Eazy’s tunes guide you through a night that promises lasting memories. Don’t miss out on securing your spot for this unforgettable musical journey—tickets live now!
URL:https://sunburn.in/event/g-eazy-india-tour-2024/
LOCATION:India\, India
CATEGORIES:Arena
ATTACH;FMTTYPE=image/jpeg:https://sunburn.in/wp-content/uploads/2024/01/G-EAZY-Website-02-min.jpg
END:VEVENT
BEGIN:VEVENT
DTSTART;TZID=Asia/Kolkata:20231227T150000
DTEND;TZID=Asia/Kolkata:20231231T220000
DTSTAMP:20260420T081221
CREATED:20231210T081904Z
LAST-MODIFIED:20231210T082008Z
UID:21295-1703689200-1704060000@sunburn.in
SUMMARY:Sunburn Goa 2023
DESCRIPTION:Asia’s biggest music festival – Sunburn Goa is back! \nWelcome to the Enchanted Forest. Get ready to go deep into the jungle with electrifying sounds and mesmerizing artists from around the world. The journey has just begun. Coming in bigger than ever before this 28\, 29\, 30 & 31 December with 4 days of absolute epicness\, \nit’s time to Live Love Dance\, again! \n\n6 stages\n100 + artists\nLuxury VVIP experiences\nCurated F&B experiences\nAfterparties & a whole lot more
URL:https://sunburn.in/event/sunburngoa2023/
LOCATION:Vagator\, Goa\, Vagator\, Goa\, 403509\, India
CATEGORIES:Festival
ATTACH;FMTTYPE=image/png:https://sunburn.in/wp-content/uploads/2023/12/Horizontal-LINEUP-min.png
END:VEVENT
BEGIN:VEVENT
DTSTART;TZID=UTC:20231104T160000
DTEND;TZID=UTC:20231105T220000
DTSTAMP:20260420T081221
CREATED:20200428T075335Z
LAST-MODIFIED:20231210T084505Z
UID:1196-1699113600-1699221600@sunburn.in
SUMMARY:Palm Tree Festival
DESCRIPTION:Palm Tree Music Festival is a captivating musical journey presented by the renowned artist KYGO. \nSet against the backdrop of a tropical paradise. As the festival unfolds\, attendees are immersed in Kygo’s signature blend of tropical house\, deep house\, and melodic pop\, creating an atmosphere that encourages both relaxation and dance. Palm Tree Festival by Kygo is more than just a music event—it’s an immersive escape that embodies the essence of summer and provides a haven for music lovers to come together\, celebrate life\, and create lasting memories in a paradise of music and nature. \nPalm Tree Music Festival is coming to INDIA for the very 1st time. Please block your tickets before they get SOLD OUT.
URL:https://sunburn.in/event/palmtreefestival/
LOCATION:Mahalaxmi Race Course\, Mumbai\, XRMC+M2P\, Keshavrao Khadye Marg\, Royal Western India Turf Club\, Mahalakshmi\, Mumbai\, Maharashtra 400034\, India\, Mumbai\, Maharashtra\, 400034\, India
CATEGORIES:Festival
ATTACH;FMTTYPE=image/jpeg:https://sunburn.in/wp-content/uploads/2020/04/PTMF-India-Lineup-Website-01-3-min.jpg
END:VEVENT
END:VCALENDAR