BEGIN:VCALENDAR
VERSION:2.0
PRODID:-//Sunburn Festival - ECPv6.15.20//NONSGML v1.0//EN
CALSCALE:GREGORIAN
METHOD:PUBLISH
X-ORIGINAL-URL:https://sunburn.in
X-WR-CALDESC:Events for Sunburn Festival
REFRESH-INTERVAL;VALUE=DURATION:PT1H
X-Robots-Tag:noindex
X-PUBLISHED-TTL:PT1H
BEGIN:VTIMEZONE
TZID:Asia/Kolkata
BEGIN:STANDARD
TZOFFSETFROM:+0530
TZOFFSETTO:+0530
TZNAME:IST
DTSTART:20250101T000000
END:STANDARD
END:VTIMEZONE
BEGIN:VEVENT
DTSTART;TZID=Asia/Kolkata:20261121T160000
DTEND;TZID=Asia/Kolkata:20261121T220000
DTSTAMP:20260419T220419
CREATED:20260219T060136Z
LAST-MODIFIED:20260219T060136Z
UID:23142-1795276800-1795298400@sunburn.in
SUMMARY:Anyma Presents Aeden - Mumbai
DESCRIPTION:Anyma’s brand-new ÆDEN audiovisual show will make a stop at Mumbai’s historic Mahalaxmi Racecourse on November 21\, 2026. The live show will debut at Anyma’s Coachella headline performance this year\, consisting of a fully immersive experience with new music and never-before-seen visuals. Fans can expect a unique extension of the Anyma universe that has been built for open-air spaces\, diving deeper into his narratives of humanity\, nature\, and technology through art.
URL:https://sunburn.in/event/anyma-aeden-mumbai/
LOCATION:Mahalaxmi Race Course\, Mumbai\, XRMC+M2P\, Keshavrao Khadye Marg\, Royal Western India Turf Club\, Mahalakshmi\, Mumbai\, Maharashtra 400034\, India\, Mumbai\, Maharashtra\, 400034\, India
CATEGORIES:Concert
ATTACH;FMTTYPE=image/jpeg:https://sunburn.in/wp-content/uploads/2026/02/ANYMA-website_1920x1080-1.jpg
END:VEVENT
BEGIN:VEVENT
DTSTART;TZID=Asia/Kolkata:20261121T160000
DTEND;TZID=Asia/Kolkata:20261121T160000
DTSTAMP:20260419T220419
CREATED:20260318T112321Z
LAST-MODIFIED:20260318T112322Z
UID:23180-1795276800-1795276800@sunburn.in
SUMMARY:Camelphat India Tour 2026
DESCRIPTION:On 21st March\, Quake Arena transforms into a pulsating cathedral of sound as globally acclaimed electronic duo CamelPhat take over the night with their signature blend of deep house and melodic techno. \nKnown for chart-dominating hits like “Cola” and revered for their hypnotic\, emotionally charged live sets\, CamelPhat have become one of the most influential forces in contemporary electronic music. From headlining the world’s biggest festivals to commanding legendary clubs across Ibiza and beyond\, their sound is both powerful and immersive. \nThis Mumbai showcase promises an elevated audio-visual experience\, featuring cutting-edge production\, immersive lighting design\, and a crowd united by rhythm. \nExpect driving basslines\, atmospheric melodies\, and a set that seamlessly moves between intensity and transcendence. \nCamelPhat live at Quake Arena isn’t just a concert — it’s a sonic journey crafted for those who live for the dancefloor.
URL:https://sunburn.in/event/camelphat-india-tour-2026/
LOCATION:India\, India
CATEGORIES:Arena
ATTACH;FMTTYPE=image/webp:https://sunburn.in/wp-content/uploads/2026/03/l37pso4qedzaold2qbm1.webp
END:VEVENT
END:VCALENDAR