BEGIN:VCALENDAR
VERSION:2.0
PRODID:-//Sunburn Festival - ECPv6.15.20//NONSGML v1.0//EN
CALSCALE:GREGORIAN
METHOD:PUBLISH
X-WR-CALNAME:Sunburn Festival
X-ORIGINAL-URL:https://sunburn.in
X-WR-CALDESC:Events for Sunburn Festival
REFRESH-INTERVAL;VALUE=DURATION:PT1H
X-Robots-Tag:noindex
X-PUBLISHED-TTL:PT1H
BEGIN:VTIMEZONE
TZID:Asia/Kolkata
BEGIN:STANDARD
TZOFFSETFROM:+0530
TZOFFSETTO:+0530
TZNAME:IST
DTSTART:20250101T000000
END:STANDARD
END:VTIMEZONE
BEGIN:VEVENT
DTSTART;TZID=Asia/Kolkata:20260303T190000
DTEND;TZID=Asia/Kolkata:20260308T170000
DTSTAMP:20260420T011235
CREATED:20260211T102032Z
LAST-MODIFIED:20260227T074657Z
UID:23119-1772564400-1772989200@sunburn.in
SUMMARY:KSHMR India Tour - Holi
DESCRIPTION:Celebrate Holi like never before as Sunburn Holi returns with a high-energy soundtrack and a colour-filled celebration like no other. Blending pulsating electronic music with the spirit of India’s most vibrant festival\, this is where beats meet colours and culture meets celebration. \nExpect massive drops\, explosive visuals\, colour showers\, and a crowd that dances through clouds of gulal. With festival-scale production\, immersive lighting\, and nonstop energy\, Sunburn Holi promises a full-sensory experience of music\, colour\, and joy. \nOne day. Infinite colours. \nSunburn Holi ~ where the festival truly comes alive.
URL:https://sunburn.in/event/kshmr-india-tour-holi/
LOCATION:India\, India
CATEGORIES:Arena
ATTACH;FMTTYPE=image/jpeg:https://sunburn.in/wp-content/uploads/2026/02/1920x1080-with-Artist-All-City-1.jpg
END:VEVENT
END:VCALENDAR