BEGIN:VCALENDAR
VERSION:2.0
PRODID:-//Sunburn Festival - ECPv6.15.20//NONSGML v1.0//EN
CALSCALE:GREGORIAN
METHOD:PUBLISH
X-ORIGINAL-URL:https://sunburn.in
X-WR-CALDESC:Events for Sunburn Festival
REFRESH-INTERVAL;VALUE=DURATION:PT1H
X-Robots-Tag:noindex
X-PUBLISHED-TTL:PT1H
BEGIN:VTIMEZONE
TZID:Asia/Kolkata
BEGIN:STANDARD
TZOFFSETFROM:+0530
TZOFFSETTO:+0530
TZNAME:IST
DTSTART:20240101T000000
END:STANDARD
END:VTIMEZONE
BEGIN:VEVENT
DTSTART;VALUE=DATE:20250314
DTEND;VALUE=DATE:20250317
DTSTAMP:20260420T202144
CREATED:20250212T131240Z
LAST-MODIFIED:20250212T131240Z
UID:22172-1741910400-1742169599@sunburn.in
SUMMARY:Timmy Trumpet India tour
DESCRIPTION:Celebrate Holi in the best way possible with Timmy Trumpet at Sunburn! Immerse in the lively visuals and colours alongside the mesmerizing beats of the legendary artist!
URL:https://sunburn.in/event/timmytrumpet-india-tour/
LOCATION:India\, India
CATEGORIES:Arena
ATTACH;FMTTYPE=image/jpeg:https://sunburn.in/wp-content/uploads/2025/02/TT-horizontal-min.jpg
END:VEVENT
END:VCALENDAR