BEGIN:VCALENDAR
VERSION:2.0
PRODID:-//Sunburn Festival - ECPv6.15.20//NONSGML v1.0//EN
CALSCALE:GREGORIAN
METHOD:PUBLISH
X-ORIGINAL-URL:https://sunburn.in
X-WR-CALDESC:Events for Sunburn Festival
REFRESH-INTERVAL;VALUE=DURATION:PT1H
X-Robots-Tag:noindex
X-PUBLISHED-TTL:PT1H
BEGIN:VTIMEZONE
TZID:Asia/Kolkata
BEGIN:STANDARD
TZOFFSETFROM:+0530
TZOFFSETTO:+0530
TZNAME:IST
DTSTART:20250101T000000
END:STANDARD
END:VTIMEZONE
BEGIN:VEVENT
DTSTART;TZID=Asia/Kolkata:20260401T160000
DTEND;TZID=Asia/Kolkata:20260403T220000
DTSTAMP:20260418T214842
CREATED:20260225T092048Z
LAST-MODIFIED:20260225T092137Z
UID:23153-1775059200-1775253600@sunburn.in
SUMMARY:BLACK COFFEE INDIA TOUR 2026
DESCRIPTION:India is set for an unforgettable takeover as Black Coffee\, the global icon of soulful and deep house\, lands from 1st-3rd April for a night defined by rhythm\, emotion\, and atmosphere. Known for his immersive sets that blend organic grooves with deep\, hypnotic soundscapes\, Black Coffee creates experiences that go far beyond the dancefloor. \nThis special evening brings together refined production\, a charged crowd\, and a musical journey that flows effortlessly from deep warmth to peak-time intensity. \nExpect a night where time slows down\, the city moves together\, and every beat tells a story. \nBlack Coffee — Live \nA rare midweek escape into sound.
URL:https://sunburn.in/event/black-coffee-india-tour-2026/
LOCATION:India\, India
CATEGORIES:Concert
ATTACH;FMTTYPE=image/jpeg:https://sunburn.in/wp-content/uploads/2026/02/1920x1080-Black-Coffee-1.jpg
END:VEVENT
END:VCALENDAR